BEGIN:VCALENDAR
VERSION:2.0
PRODID:-//iRead - ECPv6.15.20//NONSGML v1.0//EN
CALSCALE:GREGORIAN
METHOD:PUBLISH
X-WR-CALNAME:iRead
X-ORIGINAL-URL:https://iread.ke
X-WR-CALDESC:Events for iRead
REFRESH-INTERVAL;VALUE=DURATION:PT1H
X-Robots-Tag:noindex
X-PUBLISHED-TTL:PT1H
BEGIN:VTIMEZONE
TZID:Africa/Nairobi
BEGIN:STANDARD
TZOFFSETFROM:+0300
TZOFFSETTO:+0300
TZNAME:EAT
DTSTART:20230101T000000
END:STANDARD
END:VTIMEZONE
BEGIN:VTIMEZONE
TZID:UTC
BEGIN:STANDARD
TZOFFSETFROM:+0000
TZOFFSETTO:+0000
TZNAME:UTC
DTSTART:20230101T000000
END:STANDARD
END:VTIMEZONE
BEGIN:VEVENT
DTSTART;TZID=Africa/Nairobi:20240529T090000
DTEND;TZID=Africa/Nairobi:20240601T170000
DTSTAMP:20260422T230117
CREATED:20240610T223032Z
LAST-MODIFIED:20240610T223032Z
UID:93-1716973200-1717261200@iread.ke
SUMMARY:Mombasa Regional Book Fair 2024: Celebrating 25 Years of Literary Excellence
DESCRIPTION:Event dates: May 29 – June 1\, 2024\nLocation: Mama Ngina Waterfront\, Mombasa \nAbout the event\nThe Mombasa Regional Book Fair 2024 marks a significant milestone in the Kenyan literary scene\, celebrating 25 years of excellence and innovation in publishing. \nOrganized by the Kenya Publishers Association (KPA)\, this event is part of the prestigious Nairobi International Book Fair franchise. It offers a unique opportunity for attendees to immerse themselves in the rich literary culture of Kenya and the broader region. \n  \nHighlights\n\nDiverse book collection: Attendees can explore a wide range of books\, including Kiswahili literature\, academic texts\, and children’s books.\nAuthor interactions: Opportunities to meet favorite authors\, get books signed\, and attend readings and speaking engagements.\nWorkshops & seminars: Expert-led sessions providing valuable insights into writing\, publishing\, and translation.\nCultural performances: Poetry recitals\, storytelling\, and traditional dances celebrating the region’s rich heritage.\nEducational programs: Interactive storytelling sessions and activities designed to promote literacy and a love for reading among students and educators.\n\nSpecial features\n\nBook launches: The fair will feature the launch of “Enyi Wazungu Weusi\,” a new collection of Swahili poems by Duncan Were Lutomia and Jibril Adam.\nHall of Fame: Celebrating individuals who have significantly contributed to the publishing industry.\nExhibitions: Showcasing the latest trends in the literary world\, new publishing technologies\, and innovative marketing strategies.\n\nWhy attend?\n\nEngage with literature: Deepen appreciation for Kenyan and regional literature.\nNetwork: Connect with publishers\, authors\, literary critics\, and industry professionals.\nExclusive offers: Purchase books at discounted prices directly from publishers.
URL:https://iread.ke/event/mombasa-regional-book-fair-2024/
LOCATION:Mama Ngina Waterfront\, Mama Ngina Waterfront\, Mombasa\, Kenya
CATEGORIES:Book Fairs
ATTACH;FMTTYPE=image/png:https://iread.ke/wp-content/uploads/2024/06/Mombasa-regional-bookfair-2024.png
END:VEVENT
BEGIN:VEVENT
DTSTART;TZID=UTC:20240624T080000
DTEND;TZID=UTC:20240624T170000
DTSTAMP:20260422T230117
CREATED:20240623T213938Z
LAST-MODIFIED:20240624T090048Z
UID:897-1719216000-1719248400@iread.ke
SUMMARY:Testing this event
DESCRIPTION:Authors reading and understanding event. Authors reading and understanding event. Authors reading and understanding event. Authors reading and understanding event. Authors reading and understanding event.  \n\n\n\nAuthors reading and understanding event. Authors reading and understanding event. Authors reading and understanding event. Authors reading and understanding event. Authors reading and understanding event. Authors reading and understanding event. Authors reading and understanding event. Authors reading and understanding event.
URL:https://iread.ke/event/testing-this-event/
LOCATION:Chandaria Business Centre\, Kenyata university 43844\, Thika Road\, NRB\, Thika Road\, NRB\, Nairobi\, 00100\, Kenya
CATEGORIES:Book Fairs
ATTACH;FMTTYPE=image/webp:https://iread.ke/wp-content/uploads/2024/06/Munira-Hussein-Published-Author-on-iRead.webp
END:VEVENT
END:VCALENDAR