BEGIN:VCALENDAR
VERSION:2.0
PRODID:-//iRead - ECPv6.15.20//NONSGML v1.0//EN
CALSCALE:GREGORIAN
METHOD:PUBLISH
X-WR-CALNAME:iRead
X-ORIGINAL-URL:https://iread.ke
X-WR-CALDESC:Events for iRead
REFRESH-INTERVAL;VALUE=DURATION:PT1H
X-Robots-Tag:noindex
X-PUBLISHED-TTL:PT1H
BEGIN:VTIMEZONE
TZID:Africa/Nairobi
BEGIN:STANDARD
TZOFFSETFROM:+0300
TZOFFSETTO:+0300
TZNAME:EAT
DTSTART:20230101T000000
END:STANDARD
END:VTIMEZONE
BEGIN:VEVENT
DTSTART;TZID=Africa/Nairobi:20240925T090000
DTEND;TZID=Africa/Nairobi:20240929T170000
DTSTAMP:20260422T230401
CREATED:20240609T211117Z
LAST-MODIFIED:20240624T085533Z
UID:24-1727254800-1727629200@iread.ke
SUMMARY:Nairobi International Book Fair 2024
DESCRIPTION:The Nairobi International Book Fair 2024 is a must-attend event for anyone passionate about books. \n\n\n\nThis annual gathering is more than just a book fair; it’s a celebration of literature that brings together publishers\, authors\, and readers from all over the world. \n\n\n\nSo\, if you’re an avid reader\, a budding writer\, or a seasoned publisher\, there’s something for everyone. \n\n\n\nKey highlights\n\n\n\n1. Date and venue \n\n\n\n\nDate: September 25-29\, 2024\n\n\n\nVenue: Sarit Expo Centre\, Nairobi\, Kenya\n\n\n\n\nMark your calendars and prepare for an eventful week at the Sarit Expo Centre. \n\n\n\nExhibitors\n\n\n\nYou’ll find a variety of exhibitors at the fair\, including: \n\n\n\n\nLocal and international publishers\n\n\n\nBooksellers\n\n\n\nAuthors and illustrators\n\n\n\nEducational institutions\n\n\n\nDigital and print media companies\n\n\n\n\nRights trading\n\n\n\nThe 2024 Nairobi International Book Fair will focus on rights trading. Building on the success of the inaugural Rights Café in 2023\, this pavilion allows local and foreign publishers to trade intellectual property rights. \n\n\n\nThis exchange makes it easier for African writers to get their books published globally. Rights trading is an excellent opportunity for writers and publishers to expand their reach. \n\n\n\nIncreased participation\n\n\n\nThis year\, the fair expects participants from many countries: \n\n\n\n\nNigeria\n\n\n\nRwanda\n\n\n\nGhana\n\n\n\nMalawi\n\n\n\nTanzania\n\n\n\nUganda\n\n\n\n\nYou’ll also meet representatives from countries outside Africa\, such as: \n\n\n\n\nArgentina\n\n\n\nBrazil\n\n\n\nFrance\n\n\n\nGermany\n\n\n\nIndia\n\n\n\nItaly\n\n\n\nNetherlands\n\n\n\nUnited Kingdom\n\n\n\nUnited States\n\n\n\n\nWith such diverse participation\, you’ll have the chance to interact with a broad range of industry professionals. \n\n\n\nEkitabu and APNET partnership\n\n\n\nEkitabu\, an e-learning platform\, and the African Publishers Network (APNET) will continue their partnership to enhance the fair’s capabilities. This collaboration aims to promote African publishing and provide more resources for the literary community. \n\n\n\nAuthor and book discounts\n\n\n\nYou’ll find discounted book prices at the fair. Many publishers will sell books at up to 50% off. Plus\, there will be opportunities to meet your favorite authors and get your books signed. \n\n\n\nWorkshops and panel discussions\n\n\n\nThe fair will feature workshops for authors\, illustrators\, and designers. You can attend panel discussions on various topics\, such as: \n\n\n\n\nNurturing talent through publishing\n\n\n\nFuture trends in publishing\n\n\n\nDigital marketing strategies for authors\n\n\n\n\nThese sessions are great for learning new skills and gaining industry insights. \n\n\n\nAmbassadors and networking\n\n\n\nSpecial ambassadors from different countries will be present. They will negotiate with local publishers and authors for the sale of their rights. This will help you network and exchange ideas with other publishing professionals. \n\n\n\nGrowth and sustainability\n\n\n\nThe organizers aim to build on the success of the 2023 fair. They are focused on growing the initiative for 2024 and beyond. The goal is to create a community of publishing professionals who can engage throughout the year. \n\n\n\nCultural performances\n\n\n\nEnjoy performances by local artists\, including: \n\n\n\n\nPoetry readings\n\n\n\nMusic\n\n\n\nTraditional dances\n\n\n\n\nThese performances add a unique cultural flavor to the event. \n\n\n\nAttending the fair\n\n\n\n1. Tickets and registration \n\n\n\nThe Book Fair is a free event open to all. Just bring in some cash to take advantage of the discounted book offers. \n\n\n\n2. Accommodations \n\n\n\nSeveral hotels near the Sarit Expo Centre offer special rates for attendees. It’s best to book early to secure the best rates. \n\n\n\n3. Transportation \n\n\n\n\nPublic transport: The venue is easily accessible via Nairobi’s public transport system.\n\n\n\nParking: There is ample parking available for those driving.\n\n\n\n\nMaking the most of your visit\n\n\n\n1. Plan ahead \n\n\n\nReview the schedule of events and plan which sessions and activities you want to attend. Knowing what you want to see can help you make the most of your time. \n\n\n\n2. Network \n\n\n\nBring business cards and be ready to engage with others in the industry. Networking is a valuable part of the fair. \n\n\n\n3. Explore new genres \n\n\n\nUse this opportunity to discover new authors and genres you might not typically read. You never know what might catch your interest. \n\n\n\n4. Take notes \n\n\n\nAttend workshops and seminars with a notebook or digital device to capture valuable insights and tips. This will help you remember key points and apply what you’ve learned later. \n\n\n\nConclusion\n\n\n\nThe Nairobi International Book Fair 2024 is an event you don’t want to miss. It’s a celebration of literature and a platform for innovation and networking. Whether you’re there to discover new books\, learn from industry experts\, or connect with other professionals\, there’s something for everyone. Make sure to attend and be part of this vibrant literary community. \n\n\n\nFor more information and updates\, visit the Kenya Publishers Association website.
URL:https://iread.ke/event/nairobi-international-book-fair-2024/
LOCATION:Sarit Expo Centre\, Sarit Expo Centre\, Nairobi\, Kenya\, Nairobi\, Kenya
CATEGORIES:Book Fairs
ATTACH;FMTTYPE=image/webp:https://iread.ke/wp-content/uploads/2024/06/Nairobi-International-Book-Fair-2024.webp
ORGANIZER;CN="Kenya Publishers Association":MAILTO:info@kenyapublishers.org
END:VEVENT
END:VCALENDAR